BEGIN:VCALENDAR
VERSION:2.0
PRODID:-//TSV Herleshausen - ECPv6.15.20//NONSGML v1.0//EN
CALSCALE:GREGORIAN
METHOD:PUBLISH
X-ORIGINAL-URL:https://herles1000.de
X-WR-CALDESC:Veranstaltungen fÃ¼r TSV Herleshausen
REFRESH-INTERVAL;VALUE=DURATION:PT1H
X-Robots-Tag:noindex
X-PUBLISHED-TTL:PT1H
BEGIN:VTIMEZONE
TZID:Europe/Berlin
BEGIN:DAYLIGHT
TZOFFSETFROM:+0100
TZOFFSETTO:+0200
TZNAME:CEST
DTSTART:20240331T010000
END:DAYLIGHT
BEGIN:STANDARD
TZOFFSETFROM:+0200
TZOFFSETTO:+0100
TZNAME:CET
DTSTART:20241027T010000
END:STANDARD
BEGIN:DAYLIGHT
TZOFFSETFROM:+0100
TZOFFSETTO:+0200
TZNAME:CEST
DTSTART:20250330T010000
END:DAYLIGHT
BEGIN:STANDARD
TZOFFSETFROM:+0200
TZOFFSETTO:+0100
TZNAME:CET
DTSTART:20251026T010000
END:STANDARD
BEGIN:DAYLIGHT
TZOFFSETFROM:+0100
TZOFFSETTO:+0200
TZNAME:CEST
DTSTART:20260329T010000
END:DAYLIGHT
BEGIN:STANDARD
TZOFFSETFROM:+0200
TZOFFSETTO:+0100
TZNAME:CET
DTSTART:20261025T010000
END:STANDARD
END:VTIMEZONE
BEGIN:VEVENT
DTSTART;TZID=Europe/Berlin:20251104T170000
DTEND;TZID=Europe/Berlin:20251104T183000
DTSTAMP:20260419T141018
CREATED:20251027T122346Z
LAST-MODIFIED:20251027T122346Z
UID:17249-1762275600-1762281000@herles1000.de
SUMMARY:Premiere: GehfuÃŸball im TSV
DESCRIPTION:Neugierig? Wir wollen es mal ausprobieren &#8211; einfach mal dazukommen:
URL:https://herles1000.de/event/premiere-gehfussball-im-tsv/
LOCATION:TSV-Multifunktionshalle\, Am Eckweg 2\, Herleshausen\, Hessen\, 37293\, Deutschland
CATEGORIES:Sport
END:VEVENT
BEGIN:VEVENT
DTSTART;TZID=Europe/Berlin:20251111T183000
DTEND;TZID=Europe/Berlin:20251111T200000
DTSTAMP:20260419T141018
CREATED:20251109T115804Z
LAST-MODIFIED:20251109T115804Z
UID:17329-1762885800-1762891200@herles1000.de
SUMMARY:GehfuÃŸball
DESCRIPTION:Achtung &#8211; neuer Termin:\nJetzt immer dienstags um 18.30 Uhr in der TSV-Turnhalle. Das neue Angebot fÃ¼r Ã¤ltere FuÃŸballer. Einfach mal hinkommen und ausprobieren &#8230;\n\n \n\n 
URL:https://herles1000.de/event/gehfussball/
LOCATION:TSV-Multifunktionshalle\, Am Eckweg 2\, Herleshausen\, Hessen\, 37293\, Deutschland
CATEGORIES:Sport
ATTACH;FMTTYPE=image/jpeg:https://herles1000.de/wp-content/uploads/2021/01/Turnhalle-mit-Logo-1.jpg
END:VEVENT
END:VCALENDAR