BEGIN:VCALENDAR
VERSION:2.0
PRODID:-//TSV Herleshausen - ECPv6.15.20//NONSGML v1.0//EN
CALSCALE:GREGORIAN
METHOD:PUBLISH
X-ORIGINAL-URL:https://herles1000.de
X-WR-CALDESC:Veranstaltungen für TSV Herleshausen
REFRESH-INTERVAL;VALUE=DURATION:PT1H
X-Robots-Tag:noindex
X-PUBLISHED-TTL:PT1H
BEGIN:VTIMEZONE
TZID:Europe/Berlin
BEGIN:DAYLIGHT
TZOFFSETFROM:+0100
TZOFFSETTO:+0200
TZNAME:CEST
DTSTART:20240331T010000
END:DAYLIGHT
BEGIN:STANDARD
TZOFFSETFROM:+0200
TZOFFSETTO:+0100
TZNAME:CET
DTSTART:20241027T010000
END:STANDARD
BEGIN:DAYLIGHT
TZOFFSETFROM:+0100
TZOFFSETTO:+0200
TZNAME:CEST
DTSTART:20250330T010000
END:DAYLIGHT
BEGIN:STANDARD
TZOFFSETFROM:+0200
TZOFFSETTO:+0100
TZNAME:CET
DTSTART:20251026T010000
END:STANDARD
BEGIN:DAYLIGHT
TZOFFSETFROM:+0100
TZOFFSETTO:+0200
TZNAME:CEST
DTSTART:20260329T010000
END:DAYLIGHT
BEGIN:STANDARD
TZOFFSETFROM:+0200
TZOFFSETTO:+0100
TZNAME:CET
DTSTART:20261025T010000
END:STANDARD
END:VTIMEZONE
BEGIN:VEVENT
DTSTART;TZID=Europe/Berlin:20250528T190000
DTEND;TZID=Europe/Berlin:20250528T210000
DTSTAMP:20260419T233049
CREATED:20250525T204353Z
LAST-MODIFIED:20250525T204353Z
UID:16187-1748458800-1748466000@herles1000.de
SUMMARY:Fußball: 1. Relegationsspiel zur Gruppenliga
DESCRIPTION:Auftakt in die Relegationsrunde zur Gruppenliga auf dem Herleshäuser Sportplatz. Gegner ist die SG Bunstruth/Haina/Haubern/Löhlbach.
URL:https://herles1000.de/event/fussball-1-relegationsspiel-zur-gruppenliga/
LOCATION:Sportplatz Herleshausen\, Im Ölgrund\, 37293 Herleshausen\, 37293
CATEGORIES:Sport
END:VEVENT
BEGIN:VEVENT
DTSTART;TZID=Europe/Berlin:20250529T110000
DTEND;TZID=Europe/Berlin:20250529T180000
DTSTAMP:20260419T233049
CREATED:20250525T204831Z
LAST-MODIFIED:20250525T204831Z
UID:16189-1748516400-1748541600@herles1000.de
SUMMARY:20 Jahre Second Home
DESCRIPTION:Wohin am Himmelfahrtstag? Da gibt es wie immer viele Möglichkeiten\, in diesem Jahr sogar noch eine mehr\, denn unser Second Home feiert Jubiläum. Seit 20 Jahren hat die Herleshäuser Jugend nun einen eigenen eingetragenen Verein. Das darf gefeiert werden:
URL:https://herles1000.de/event/20-jahre-second-home/
LOCATION:Hahnhofsweg
CATEGORIES:Jubiläum
END:VEVENT
END:VCALENDAR