BEGIN:VCALENDAR
VERSION:2.0
PRODID:-//TSV Herleshausen - ECPv6.15.20//NONSGML v1.0//EN
CALSCALE:GREGORIAN
METHOD:PUBLISH
X-ORIGINAL-URL:https://herles1000.de
X-WR-CALDESC:Veranstaltungen für TSV Herleshausen
REFRESH-INTERVAL;VALUE=DURATION:PT1H
X-Robots-Tag:noindex
X-PUBLISHED-TTL:PT1H
BEGIN:VTIMEZONE
TZID:Europe/Berlin
BEGIN:DAYLIGHT
TZOFFSETFROM:+0100
TZOFFSETTO:+0200
TZNAME:CEST
DTSTART:20230326T010000
END:DAYLIGHT
BEGIN:STANDARD
TZOFFSETFROM:+0200
TZOFFSETTO:+0100
TZNAME:CET
DTSTART:20231029T010000
END:STANDARD
BEGIN:DAYLIGHT
TZOFFSETFROM:+0100
TZOFFSETTO:+0200
TZNAME:CEST
DTSTART:20240331T010000
END:DAYLIGHT
BEGIN:STANDARD
TZOFFSETFROM:+0200
TZOFFSETTO:+0100
TZNAME:CET
DTSTART:20241027T010000
END:STANDARD
BEGIN:DAYLIGHT
TZOFFSETFROM:+0100
TZOFFSETTO:+0200
TZNAME:CEST
DTSTART:20250330T010000
END:DAYLIGHT
BEGIN:STANDARD
TZOFFSETFROM:+0200
TZOFFSETTO:+0100
TZNAME:CET
DTSTART:20251026T010000
END:STANDARD
BEGIN:DAYLIGHT
TZOFFSETFROM:+0100
TZOFFSETTO:+0200
TZNAME:CEST
DTSTART:20260329T010000
END:DAYLIGHT
BEGIN:STANDARD
TZOFFSETFROM:+0200
TZOFFSETTO:+0100
TZNAME:CET
DTSTART:20261025T010000
END:STANDARD
END:VTIMEZONE
BEGIN:VEVENT
DTSTART;TZID=Europe/Berlin:20241231T190000
DTEND;TZID=Europe/Berlin:20250101T040000
DTSTAMP:20260420T060722
CREATED:20241216T211639Z
LAST-MODIFIED:20241216T212132Z
UID:15286-1735671600-1735704000@herles1000.de
SUMMARY:Silvester in der TSV-Turnhalle
DESCRIPTION:In diesem Jahr können Mitglieder und auch Nicht-Mitglieder in der TSV-Turnhalle gemeinsam ins neue Jahr feiern. Anmeldungen werden gerne noch entgegengenommen:
URL:https://herles1000.de/event/silvester-in-der-tsv-turnhalle/
LOCATION:TSV-Multifunktionshalle\, Am Eckweg 2\, Herleshausen\, Hessen\, 37293\, Deutschland
CATEGORIES:Treffen
END:VEVENT
BEGIN:VEVENT
DTSTART;TZID=Europe/Berlin:20250111T193000
DTEND;TZID=Europe/Berlin:20250111T193000
DTSTAMP:20260420T060722
CREATED:20241028T205617Z
LAST-MODIFIED:20241109T225723Z
UID:15024-1736623800-1736623800@herles1000.de
SUMMARY:Vereinsehrentag
DESCRIPTION:Zu Gast bei unserer Dart-Abteilung im gemütlichen Ambiente des Ratskellers soll der Vereinsehrentag diesmal quasi als eine Art Neujahrsempfang stattfinden. Verdiente und erfolgreiche Mitglieder werden geehrt\, Imbiss und Getränke sind natürlich selbstverständlich. Besucher sind im Keller des Gemeinschaftshauses natürlich willkommen &#8230;
URL:https://herles1000.de/event/vereinsehrentag/
LOCATION:Ratskeller Herleshausen
CATEGORIES:Treffen
ATTACH;FMTTYPE=image/jpeg:https://herles1000.de/wp-content/uploads/2023/12/IMG_5175-web.jpg
END:VEVENT
END:VCALENDAR