BEGIN:VCALENDAR
VERSION:2.0
PRODID:-//TSV Herleshausen - ECPv6.15.20//NONSGML v1.0//EN
CALSCALE:GREGORIAN
METHOD:PUBLISH
X-WR-CALNAME:TSV Herleshausen
X-ORIGINAL-URL:https://herles1000.de
X-WR-CALDESC:Veranstaltungen fÃ¼r TSV Herleshausen
REFRESH-INTERVAL;VALUE=DURATION:PT1H
X-Robots-Tag:noindex
X-PUBLISHED-TTL:PT1H
BEGIN:VTIMEZONE
TZID:Europe/Berlin
BEGIN:DAYLIGHT
TZOFFSETFROM:+0100
TZOFFSETTO:+0200
TZNAME:CEST
DTSTART:20230326T010000
END:DAYLIGHT
BEGIN:STANDARD
TZOFFSETFROM:+0200
TZOFFSETTO:+0100
TZNAME:CET
DTSTART:20231029T010000
END:STANDARD
BEGIN:DAYLIGHT
TZOFFSETFROM:+0100
TZOFFSETTO:+0200
TZNAME:CEST
DTSTART:20240331T010000
END:DAYLIGHT
BEGIN:STANDARD
TZOFFSETFROM:+0200
TZOFFSETTO:+0100
TZNAME:CET
DTSTART:20241027T010000
END:STANDARD
BEGIN:DAYLIGHT
TZOFFSETFROM:+0100
TZOFFSETTO:+0200
TZNAME:CEST
DTSTART:20250330T010000
END:DAYLIGHT
BEGIN:STANDARD
TZOFFSETFROM:+0200
TZOFFSETTO:+0100
TZNAME:CET
DTSTART:20251026T010000
END:STANDARD
BEGIN:DAYLIGHT
TZOFFSETFROM:+0100
TZOFFSETTO:+0200
TZNAME:CEST
DTSTART:20260329T010000
END:DAYLIGHT
BEGIN:STANDARD
TZOFFSETFROM:+0200
TZOFFSETTO:+0100
TZNAME:CET
DTSTART:20261025T010000
END:STANDARD
END:VTIMEZONE
BEGIN:VEVENT
DTSTART;TZID=Europe/Berlin:20241206T150000
DTEND;TZID=Europe/Berlin:20241206T220000
DTSTAMP:20260420T075003
CREATED:20241204T223601Z
LAST-MODIFIED:20241204T223747Z
UID:15255-1733497200-1733522400@herles1000.de
SUMMARY:Nikolausmarkt in Herleshausen
DESCRIPTION:An der Burgkirche findet erstmals ein Nikolausmarkt statt\, veranstaltet von der Evangelischen Kirchengemeinde und viele Partnern aus dem Dorf. \n 
URL:https://herles1000.de/event/nikolausmarkt-in-herleshausen/
LOCATION:Ev. Burgkirche\, Bahnhofstrasse 12\, Herleshausen\, Hessen\, 37293\, Deutschland
CATEGORIES:Gottesdienst,Treffen
END:VEVENT
BEGIN:VEVENT
DTSTART;TZID=Europe/Berlin:20241228T203000
DTEND;TZID=Europe/Berlin:20241228T203000
DTSTAMP:20260420T075003
CREATED:20241028T211325Z
LAST-MODIFIED:20241028T211404Z
UID:15028-1735417800-1735417800@herles1000.de
SUMMARY:After-Xmas-Party - TSV Weihnachtsdisco
DESCRIPTION:Der Treffpunkt fÃ¼r Jung und jung Gebliebene zwischen den Jahren in Herleshausen! Heuer wollen wir die alte Tradition des Weihnachtstanzes wieder aufleben lassen\, natÃ¼rlich in der modernen Form einer Weihnachtsdisco. Wie in vergangenen Zeiten darf die Turnhalle dann wieder zum Beben gebracht werden.
URL:https://herles1000.de/event/after-xmas-party-tsv-weihnachtsdisco/
LOCATION:TSV-Multifunktionshalle\, Am Eckweg 2\, Herleshausen\, Hessen\, 37293\, Deutschland
CATEGORIES:Disco
ATTACH;FMTTYPE=image/jpeg:https://herles1000.de/wp-content/uploads/2024/01/Party-Spektakel-Titel.jpg
END:VEVENT
BEGIN:VEVENT
DTSTART;TZID=Europe/Berlin:20241231T190000
DTEND;TZID=Europe/Berlin:20250101T040000
DTSTAMP:20260420T075003
CREATED:20241216T211639Z
LAST-MODIFIED:20241216T212132Z
UID:15286-1735671600-1735704000@herles1000.de
SUMMARY:Silvester in der TSV-Turnhalle
DESCRIPTION:In diesem Jahr kÃ¶nnen Mitglieder und auch Nicht-Mitglieder in der TSV-Turnhalle gemeinsam ins neue Jahr feiern. Anmeldungen werden gerne noch entgegengenommen:
URL:https://herles1000.de/event/silvester-in-der-tsv-turnhalle/
LOCATION:TSV-Multifunktionshalle\, Am Eckweg 2\, Herleshausen\, Hessen\, 37293\, Deutschland
CATEGORIES:Treffen
END:VEVENT
END:VCALENDAR