BEGIN:VCALENDAR
VERSION:2.0
PRODID:-//TSV Herleshausen - ECPv6.15.20//NONSGML v1.0//EN
CALSCALE:GREGORIAN
METHOD:PUBLISH
X-ORIGINAL-URL:https://herles1000.de
X-WR-CALDESC:Veranstaltungen fÃ¼r TSV Herleshausen
REFRESH-INTERVAL;VALUE=DURATION:PT1H
X-Robots-Tag:noindex
X-PUBLISHED-TTL:PT1H
BEGIN:VTIMEZONE
TZID:Europe/Berlin
BEGIN:DAYLIGHT
TZOFFSETFROM:+0100
TZOFFSETTO:+0200
TZNAME:CEST
DTSTART:20230326T010000
END:DAYLIGHT
BEGIN:STANDARD
TZOFFSETFROM:+0200
TZOFFSETTO:+0100
TZNAME:CET
DTSTART:20231029T010000
END:STANDARD
BEGIN:DAYLIGHT
TZOFFSETFROM:+0100
TZOFFSETTO:+0200
TZNAME:CEST
DTSTART:20240331T010000
END:DAYLIGHT
BEGIN:STANDARD
TZOFFSETFROM:+0200
TZOFFSETTO:+0100
TZNAME:CET
DTSTART:20241027T010000
END:STANDARD
BEGIN:DAYLIGHT
TZOFFSETFROM:+0100
TZOFFSETTO:+0200
TZNAME:CEST
DTSTART:20250330T010000
END:DAYLIGHT
BEGIN:STANDARD
TZOFFSETFROM:+0200
TZOFFSETTO:+0100
TZNAME:CET
DTSTART:20251026T010000
END:STANDARD
END:VTIMEZONE
BEGIN:VEVENT
DTSTART;TZID=Europe/Berlin:20241102T150000
DTEND;TZID=Europe/Berlin:20241102T180000
DTSTAMP:20260420T093508
CREATED:20241022T221809Z
LAST-MODIFIED:20241022T221809Z
UID:14982-1730559600-1730570400@herles1000.de
SUMMARY:Kinder-Halloween-Party
DESCRIPTION:Alle TSV-Kids sind herzliche eingeladen zur ersten Halloween-Party im Ratskeller &#8211; Gruselfaktor garantiert &#8230; Eintritt: 2\,- Euro \n 
URL:https://herles1000.de/event/kinder-halloween-party/
LOCATION:Ratskeller Herleshausen
ATTACH;FMTTYPE=image/jpeg:https://herles1000.de/wp-content/uploads/2024/10/Kinder-Halloween-beim-TSV.jpg
END:VEVENT
BEGIN:VEVENT
DTSTART;TZID=Europe/Berlin:20241123T093000
DTEND;TZID=Europe/Berlin:20241123T130000
DTSTAMP:20260420T093508
CREATED:20241028T204641Z
LAST-MODIFIED:20241028T204641Z
UID:15022-1732354200-1732366800@herles1000.de
SUMMARY:Arbeitseinsatz an der TSV-Turnhalle
DESCRIPTION:Es gibt viel zu tun: rund um unsere TSV-Turnhalle warten Laub und GebÃ¼sch auf Beseitigung. Ãœber zahlreiche helfende HÃ¤nde wÃ¼rde sich der Vorstand freuen! \n 
URL:https://herles1000.de/event/arbeitseinsatz-an-der-tsv-turnhalle-2/
LOCATION:TSV-Multifunktionshalle\, Am Eckweg 2\, Herleshausen\, Hessen\, 37293\, Deutschland
CATEGORIES:Treffen
ATTACH;FMTTYPE=image/jpeg:https://herles1000.de/wp-content/uploads/2021/01/Turnhalle-mit-Logo-1.jpg
END:VEVENT
BEGIN:VEVENT
DTSTART;TZID=Europe/Berlin:20241130T180000
DTEND;TZID=Europe/Berlin:20241130T180000
DTSTAMP:20260420T093508
CREATED:20241127T213958Z
LAST-MODIFIED:20241127T213958Z
UID:15212-1732989600-1732989600@herles1000.de
SUMMARY:Weihnachtsfeier SG H/N/U
DESCRIPTION:Die H/N/U-FuÃŸballer treffen sich zur diesjÃ¤hrigen Weihnachtsfeier am Vorabend des 1.Advent im NesselrÃ¶der DGH:
URL:https://herles1000.de/event/weihnachtsfeier-sg-h-n-u/
LOCATION:DGH NesselrÃ¶den
CATEGORIES:Treffen
END:VEVENT
END:VCALENDAR