BEGIN:VCALENDAR
VERSION:2.0
PRODID:-//TSV Herleshausen - ECPv6.15.20//NONSGML v1.0//EN
CALSCALE:GREGORIAN
METHOD:PUBLISH
X-ORIGINAL-URL:https://herles1000.de
X-WR-CALDESC:Veranstaltungen für TSV Herleshausen
REFRESH-INTERVAL;VALUE=DURATION:PT1H
X-Robots-Tag:noindex
X-PUBLISHED-TTL:PT1H
BEGIN:VTIMEZONE
TZID:Europe/Berlin
BEGIN:DAYLIGHT
TZOFFSETFROM:+0100
TZOFFSETTO:+0200
TZNAME:CEST
DTSTART:20230326T010000
END:DAYLIGHT
BEGIN:STANDARD
TZOFFSETFROM:+0200
TZOFFSETTO:+0100
TZNAME:CET
DTSTART:20231029T010000
END:STANDARD
BEGIN:DAYLIGHT
TZOFFSETFROM:+0100
TZOFFSETTO:+0200
TZNAME:CEST
DTSTART:20240331T010000
END:DAYLIGHT
BEGIN:STANDARD
TZOFFSETFROM:+0200
TZOFFSETTO:+0100
TZNAME:CET
DTSTART:20241027T010000
END:STANDARD
BEGIN:DAYLIGHT
TZOFFSETFROM:+0100
TZOFFSETTO:+0200
TZNAME:CEST
DTSTART:20250330T010000
END:DAYLIGHT
BEGIN:STANDARD
TZOFFSETFROM:+0200
TZOFFSETTO:+0100
TZNAME:CET
DTSTART:20251026T010000
END:STANDARD
END:VTIMEZONE
BEGIN:VEVENT
DTSTART;TZID=Europe/Berlin:20240601T110000
DTEND;TZID=Europe/Berlin:20240601T200000
DTSTAMP:20260422T162533
CREATED:20240528T045348Z
LAST-MODIFIED:20240530T235823Z
UID:14101-1717239600-1717272000@herles1000.de
SUMMARY:800 Jahre Brandenburg - entfällt!
DESCRIPTION:Unser Wahrzeichen im Werratal feiert ein rundes Jubiläum &#8211; feiern wir mit!
URL:https://herles1000.de/event/800-jahre-brandenburg/
LOCATION:Brandenburg
CATEGORIES:Fest-Wochenende
END:VEVENT
BEGIN:VEVENT
DTSTART;TZID=Europe/Berlin:20240601T143000
DTEND;TZID=Europe/Berlin:20240601T173000
DTSTAMP:20260422T162533
CREATED:20240526T202021Z
LAST-MODIFIED:20240526T202146Z
UID:14071-1717252200-1717263000@herles1000.de
SUMMARY:Kindertagsdisco im TSV
DESCRIPTION:Eingeladen sind alle Kinder unter 18 Jahren &#8211; Eintritt frei!
URL:https://herles1000.de/event/kindertagsdisco-im-tsv/
LOCATION:TSV-Multifunktionshalle\, Am Eckweg 2\, Herleshausen\, Hessen\, 37293\, Deutschland
CATEGORIES:Disco
ATTACH;FMTTYPE=image/jpeg:https://herles1000.de/wp-content/uploads/2024/05/Plakat-TSV-Kinderdisco.jpg
END:VEVENT
END:VCALENDAR