BEGIN:VCALENDAR
VERSION:2.0
PRODID:-//TSV Herleshausen - ECPv6.15.20//NONSGML v1.0//EN
CALSCALE:GREGORIAN
METHOD:PUBLISH
X-ORIGINAL-URL:https://herles1000.de
X-WR-CALDESC:Veranstaltungen fÃ¼r TSV Herleshausen
REFRESH-INTERVAL;VALUE=DURATION:PT1H
X-Robots-Tag:noindex
X-PUBLISHED-TTL:PT1H
BEGIN:VTIMEZONE
TZID:Europe/Berlin
BEGIN:DAYLIGHT
TZOFFSETFROM:+0100
TZOFFSETTO:+0200
TZNAME:CEST
DTSTART:20230326T010000
END:DAYLIGHT
BEGIN:STANDARD
TZOFFSETFROM:+0200
TZOFFSETTO:+0100
TZNAME:CET
DTSTART:20231029T010000
END:STANDARD
BEGIN:DAYLIGHT
TZOFFSETFROM:+0100
TZOFFSETTO:+0200
TZNAME:CEST
DTSTART:20240331T010000
END:DAYLIGHT
BEGIN:STANDARD
TZOFFSETFROM:+0200
TZOFFSETTO:+0100
TZNAME:CET
DTSTART:20241027T010000
END:STANDARD
BEGIN:DAYLIGHT
TZOFFSETFROM:+0100
TZOFFSETTO:+0200
TZNAME:CEST
DTSTART:20250330T010000
END:DAYLIGHT
BEGIN:STANDARD
TZOFFSETFROM:+0200
TZOFFSETTO:+0100
TZNAME:CET
DTSTART:20251026T010000
END:STANDARD
END:VTIMEZONE
BEGIN:VEVENT
DTSTART;TZID=Europe/Berlin:20240113T200000
DTEND;TZID=Europe/Berlin:20240113T200000
DTSTAMP:20260424T161807
CREATED:20240109T114427Z
LAST-MODIFIED:20240109T114655Z
UID:13136-1705176000-1705176000@herles1000.de
SUMMARY:Multivisions-Show in der TSV-Turnhalle
DESCRIPTION:Donaudelta und RumÃ¤nien\nIn seiner zweiten Multivisions-Show zeigt Roland Brack am Samstag\, dem 13.1.24 um 20 Uhr seine Abenteuer in RumÃ¤nien. \nHier gibtÂ´s nÃ¤here Infos &#8230; \nDer Vortrag verspricht zwei Stunden voller wundervoller Natur- und Tieraufnahmen mit spannender Unterhaltung. Die Eintrittskarten gibt es fÃ¼r 12\,- Euro im Vorverkauf bei der Fleischerei Schneider oder bei Roland Brack direkt. FÃ¼r 14\,- Euro wahrscheinlich auch noch an der Abendkasse. Kinder zahlen 7\,- Euro (nur an der Abendkasse erhÃ¤ltlich).
URL:https://herles1000.de/event/multivisions-show-in-der-tsv-turnhalle/
LOCATION:TSV-Multifunktionshalle\, Am Eckweg 2\, Herleshausen\, Hessen\, 37293\, Deutschland
CATEGORIES:Vortrag
ATTACH;FMTTYPE=image/jpeg:https://herles1000.de/wp-content/uploads/2023/12/71A6892Rallenreiher-im-DD-web.jpg
END:VEVENT
BEGIN:VEVENT
DTSTART;TZID=Europe/Berlin:20240120T200000
DTEND;TZID=Europe/Berlin:20240120T200000
DTSTAMP:20260424T161807
CREATED:20231229T233833Z
LAST-MODIFIED:20240104T221132Z
UID:13087-1705780800-1705780800@herles1000.de
SUMMARY:TSV-Party mit Acoustication
DESCRIPTION:Nach dem gelungenen Auftakt im Vorjahr mit zwei Veranstaltungen in der TSV-Turnhalle und im Schlosspark lÃ¤dt der TSV erneut zur Party mit der heimischen Formation Acoustication. \n 
URL:https://herles1000.de/event/tsv-party-mit-acoustication/
LOCATION:TSV-Multifunktionshalle\, Am Eckweg 2\, Herleshausen\, Hessen\, 37293\, Deutschland
CATEGORIES:Konzert
ATTACH;FMTTYPE=image/jpeg:https://herles1000.de/wp-content/uploads/2023/12/TSV-Party-2024-1-web.jpg
END:VEVENT
BEGIN:VEVENT
DTSTART;TZID=Europe/Berlin:20240121T143000
DTEND;TZID=Europe/Berlin:20240121T180000
DTSTAMP:20260424T161807
CREATED:20240104T220856Z
LAST-MODIFIED:20240104T220856Z
UID:13123-1705847400-1705860000@herles1000.de
SUMMARY:Kinderfasching
DESCRIPTION:Auch in diesem Jahr laden wir wieder alle Kinder zum nÃ¤rrischen Treiben in die TSV-Turnhalle ein. Das gibt bestimmt wieder ein Spektakel &#8230;
URL:https://herles1000.de/event/kinderfasching-2/
LOCATION:TSV-Multifunktionshalle\, Am Eckweg 2\, Herleshausen\, Hessen\, 37293\, Deutschland
CATEGORIES:Karneval
ATTACH;FMTTYPE=image/jpeg:https://herles1000.de/wp-content/uploads/2024/01/Kinderfasching.jpg
END:VEVENT
END:VCALENDAR