BEGIN:VCALENDAR
VERSION:2.0
PRODID:-//TSV Herleshausen - ECPv6.15.20//NONSGML v1.0//EN
CALSCALE:GREGORIAN
METHOD:PUBLISH
X-WR-CALNAME:TSV Herleshausen
X-ORIGINAL-URL:https://herles1000.de
X-WR-CALDESC:Veranstaltungen für TSV Herleshausen
REFRESH-INTERVAL;VALUE=DURATION:PT1H
X-Robots-Tag:noindex
X-PUBLISHED-TTL:PT1H
BEGIN:VTIMEZONE
TZID:Europe/Berlin
BEGIN:DAYLIGHT
TZOFFSETFROM:+0100
TZOFFSETTO:+0200
TZNAME:CEST
DTSTART:20220327T010000
END:DAYLIGHT
BEGIN:STANDARD
TZOFFSETFROM:+0200
TZOFFSETTO:+0100
TZNAME:CET
DTSTART:20221030T010000
END:STANDARD
BEGIN:DAYLIGHT
TZOFFSETFROM:+0100
TZOFFSETTO:+0200
TZNAME:CEST
DTSTART:20230326T010000
END:DAYLIGHT
BEGIN:STANDARD
TZOFFSETFROM:+0200
TZOFFSETTO:+0100
TZNAME:CET
DTSTART:20231029T010000
END:STANDARD
BEGIN:DAYLIGHT
TZOFFSETFROM:+0100
TZOFFSETTO:+0200
TZNAME:CEST
DTSTART:20240331T010000
END:DAYLIGHT
BEGIN:STANDARD
TZOFFSETFROM:+0200
TZOFFSETTO:+0100
TZNAME:CET
DTSTART:20241027T010000
END:STANDARD
END:VTIMEZONE
BEGIN:VEVENT
DTSTART;TZID=Europe/Berlin:20230728T203000
DTEND;TZID=Europe/Berlin:20230728T203000
DTSTAMP:20260425T002601
CREATED:20230711T204906Z
LAST-MODIFIED:20230711T204906Z
UID:12057-1690576200-1690576200@herles1000.de
SUMMARY:Jahreshauptversammlung SG H/N/U
DESCRIPTION:Der Vorstand der SG H/N/U lädt alle Mitglieder des TSV Herleshausen\, des TSV Brandenfels Nesselröden und des TSV Ulfegrund am Freitag\, dem 28. Juli 2023\, Beginn 20.30 Uhr\, ins Dorfgemeinschaftshaus Ulfen zur Jahreshauptversammlung ein.\n\n \n\nAn diesem Abend sollen die Berichte des 1. Vorsitzenden Friedhelm Rimbach und der Abteilungsleiter zur Serie 2022/23 vorgetragen und der Haushaltsplan Serie 2023/24 vorgestellt werden. Des Weiteren soll über den Übungs- und Spielbetrieb informiert und beraten werden.\n\n \nTagesordnung\n \n\nTOP 1\nBericht des 1. Vorsitzenden (zur Serie 2022/23 GL)\n\n \n\nTOP 2\nBericht des Spielausschussvorsitzenden\n\n \n\nTOP 3\nBericht des Jugendwartes\n\n \n\nTOP 4\nBericht des Kassenwartes\n\n \n\nTOP 5\nBericht der Kassenprüfer\n5.a) Antrag auf Entlastung des Vorstands\n\n \n\nTOP 6\nVorstellung Haushaltsplan (Serie 2023/24 KOL)\n\n \n\nTOP 7\nAussprache über die Berichte\n\n \n\nTOP 8\nAnträge\, die eine Woche vorher beim 1. Vorsitzenden schriftlich eingereicht werden müssen\n\n \n\nTOP 9\nBeratung des Übungs- und Spielbetriebs 2023/24\n\n \n\nTOP 10\nVerschiedenes\n\n \n\nGeorg Göpfarth\, Pressewart SG H/N/U
URL:https://herles1000.de/event/jahreshauptversammlung-sg-h-n-u-2/
LOCATION:DGH Ulfen\, Am Sportplatz\, 36205 Sontra-Ulfen
CATEGORIES:Versammlung
ATTACH;FMTTYPE=image/jpeg:https://herles1000.de/wp-content/uploads/2023/05/Fussball-nur-Ball-Titel.jpg
END:VEVENT
END:VCALENDAR