BEGIN:VCALENDAR
VERSION:2.0
PRODID:-//TSV Herleshausen - ECPv6.15.20//NONSGML v1.0//EN
CALSCALE:GREGORIAN
METHOD:PUBLISH
X-WR-CALNAME:TSV Herleshausen
X-ORIGINAL-URL:https://herles1000.de
X-WR-CALDESC:Veranstaltungen fÃ¼r TSV Herleshausen
REFRESH-INTERVAL;VALUE=DURATION:PT1H
X-Robots-Tag:noindex
X-PUBLISHED-TTL:PT1H
BEGIN:VTIMEZONE
TZID:Europe/Berlin
BEGIN:DAYLIGHT
TZOFFSETFROM:+0100
TZOFFSETTO:+0200
TZNAME:CEST
DTSTART:20220327T010000
END:DAYLIGHT
BEGIN:STANDARD
TZOFFSETFROM:+0200
TZOFFSETTO:+0100
TZNAME:CET
DTSTART:20221030T010000
END:STANDARD
BEGIN:DAYLIGHT
TZOFFSETFROM:+0100
TZOFFSETTO:+0200
TZNAME:CEST
DTSTART:20230326T010000
END:DAYLIGHT
BEGIN:STANDARD
TZOFFSETFROM:+0200
TZOFFSETTO:+0100
TZNAME:CET
DTSTART:20231029T010000
END:STANDARD
BEGIN:DAYLIGHT
TZOFFSETFROM:+0100
TZOFFSETTO:+0200
TZNAME:CEST
DTSTART:20240331T010000
END:DAYLIGHT
BEGIN:STANDARD
TZOFFSETFROM:+0200
TZOFFSETTO:+0100
TZNAME:CET
DTSTART:20241027T010000
END:STANDARD
END:VTIMEZONE
BEGIN:VEVENT
DTSTART;TZID=Europe/Berlin:20230402T090000
DTEND;TZID=Europe/Berlin:20230402T090000
DTSTAMP:20260425T051123
CREATED:20230329T095826Z
LAST-MODIFIED:20230329T095826Z
UID:11460-1680426000-1680426000@herles1000.de
SUMMARY:FrÃ¼hjahrswanderung Turngau Werra
DESCRIPTION:Die traditionelle Tour durch den erwachenden FrÃ¼hling findet heuer in Oberrieden statt. Ab 9.00 Uhr kÃ¶nnen die Teilnehmer auf die Strecke gehen. FÃ¼r HerleshÃ¤user Wanderfreunde besteht die Gelegenheit\, per Fahrgemeinschaft zum Start zu kommen &#8211; siehe unten. \nHier gehtÂ´s zum Flyer des Veranstalters. \n 
URL:https://herles1000.de/event/fruehjahrswanderung-turngau-werra/
LOCATION:oberrieden\, Dorfgemeinschaftshaus\, Bad Sooden-Allendorf Oberrieden\, 37242
CATEGORIES:Wanderung
END:VEVENT
BEGIN:VEVENT
DTSTART;TZID=Europe/Berlin:20230414T193000
DTEND;TZID=Europe/Berlin:20230414T223000
DTSTAMP:20260425T051123
CREATED:20230411T171506Z
LAST-MODIFIED:20230411T171822Z
UID:11563-1681500600-1681511400@herles1000.de
SUMMARY:Darts: Bulls wollen die Meisterschaft
DESCRIPTION:Am kommenden Freitag empfangen die TSV Herleshausen Bulls den DC Friedewald. Im ersten von drei Matchdarts wollen die MÃ¤nner von Thomas Wanka die vorzeitige Meisterschaft klar machen.  \nAnwurf ist um 19:30 Uhr. 
URL:https://herles1000.de/event/darts-bulls-wollen-die-meisterschaft/
LOCATION:Ratskeller Herleshausen
CATEGORIES:Serienspiel,Sport
END:VEVENT
BEGIN:VEVENT
DTSTART;TZID=Europe/Berlin:20230422T140000
DTEND;TZID=Europe/Berlin:20230422T230000
DTSTAMP:20260425T051123
CREATED:20230322T144336Z
LAST-MODIFIED:20230322T144336Z
UID:11386-1682172000-1682204400@herles1000.de
SUMMARY:Dartsturnier fÃ¼r jedermann
DESCRIPTION:Endlich ist es soweit! Am 22.04. findet das erste Dartsturnier des TSV Herleshausen in unserem Ratskeller statt! \n32 inaktive Spieler\, also Spieler\, die noch kein Liga- oder Pokalspiel absolviert haben\, treten im Doppel-KO-System gegeneinander an. FÃ¼r das leibliche Wohl wird bestens gesorgt &#8211; attraktive Preise warten auf die Teilnehmer!  \nAnmeldung am besten hier per Instagram oder direkt beim Abteilungsleiter. Sobald die 32 StartplÃ¤tze vergeben sind\, kÃ¶nnen nur noch NachrÃ¼ckerplÃ¤tze vergeben werden &#8211; schnell sein lohnt sich also! \nBei weiteren Fragen und Anregungen stehen wir euch gerne zur VerfÃ¼gung!  \nBeginn: 14 Uhr
URL:https://herles1000.de/event/dartsturnier-fuer-jedermann/
LOCATION:Ratskeller Herleshausen
CATEGORIES:Sport
END:VEVENT
END:VCALENDAR