BEGIN:VCALENDAR
VERSION:2.0
PRODID:-//TSV Herleshausen - ECPv6.15.20//NONSGML v1.0//EN
CALSCALE:GREGORIAN
METHOD:PUBLISH
X-ORIGINAL-URL:https://herles1000.de
X-WR-CALDESC:Veranstaltungen fÃ¼r TSV Herleshausen
REFRESH-INTERVAL;VALUE=DURATION:PT1H
X-Robots-Tag:noindex
X-PUBLISHED-TTL:PT1H
BEGIN:VTIMEZONE
TZID:Europe/Berlin
BEGIN:DAYLIGHT
TZOFFSETFROM:+0100
TZOFFSETTO:+0200
TZNAME:CEST
DTSTART:20220327T010000
END:DAYLIGHT
BEGIN:STANDARD
TZOFFSETFROM:+0200
TZOFFSETTO:+0100
TZNAME:CET
DTSTART:20221030T010000
END:STANDARD
BEGIN:DAYLIGHT
TZOFFSETFROM:+0100
TZOFFSETTO:+0200
TZNAME:CEST
DTSTART:20230326T010000
END:DAYLIGHT
BEGIN:STANDARD
TZOFFSETFROM:+0200
TZOFFSETTO:+0100
TZNAME:CET
DTSTART:20231029T010000
END:STANDARD
BEGIN:DAYLIGHT
TZOFFSETFROM:+0100
TZOFFSETTO:+0200
TZNAME:CEST
DTSTART:20240331T010000
END:DAYLIGHT
BEGIN:STANDARD
TZOFFSETFROM:+0200
TZOFFSETTO:+0100
TZNAME:CET
DTSTART:20241027T010000
END:STANDARD
END:VTIMEZONE
BEGIN:VEVENT
DTSTART;TZID=Europe/Berlin:20230329T183000
DTEND;TZID=Europe/Berlin:20230329T183000
DTSTAMP:20260425T063209
CREATED:20230328T044642Z
LAST-MODIFIED:20230328T205819Z
UID:11452-1680114600-1680114600@herles1000.de
SUMMARY:FuÃŸball: Pokalspiel in Ulfen
DESCRIPTION:SG H/N/U &#8211; SG Kleinalmerode/Hundelshausen/Dohrenbach \nKreispokal Viertelfinale
URL:https://herles1000.de/event/fussball-pokalspiel-in-ulfen/
LOCATION:Sportplatz Ulfen\, Rendaer StraÃŸe\, 36205 Sontra-Ulfen
CATEGORIES:Pokalspiel
END:VEVENT
BEGIN:VEVENT
DTSTART;TZID=Europe/Berlin:20230329T193000
DTEND;TZID=Europe/Berlin:20230329T223000
DTSTAMP:20260425T063209
CREATED:20230327T151035Z
LAST-MODIFIED:20230327T151035Z
UID:11422-1680118200-1680129000@herles1000.de
SUMMARY:Darts: Tigers vs. Landershausen
DESCRIPTION:Das Topspiel der C-Liga Ost 1 wartet! \n  \nDie Tigers empfangen ab 19:30 Uhr die LA Pally-Darter aus Landershausen. Das Team um Thomas Starbatty will unbedingt den zweiten Tabellenplatz gegen den direkten Aufstiegskonkurrenten verteidigen.  \nFÃ¼r das leibliche Wohl wird bestens gesorgt. Es warten wie Ã¼blich Leckereien von Wagnerâ€˜s Wurstkammer!
URL:https://herles1000.de/event/darts-tigers-vs-landershausen/
LOCATION:Ratskeller Herleshausen
CATEGORIES:Serienspiel,Sport
END:VEVENT
BEGIN:VEVENT
DTSTART;TZID=Europe/Berlin:20230331T183000
DTEND;TZID=Europe/Berlin:20230331T220000
DTSTAMP:20260425T063209
CREATED:20230327T151252Z
LAST-MODIFIED:20230327T151252Z
UID:11424-1680287400-1680300000@herles1000.de
SUMMARY:Darts: Crocodiles vs. Destille Obersuhl
DESCRIPTION:Die Crocodiles erwarten ab 18:30 Uhr Destille Obersuhl. Ein Sieg muss her\, um weiter im Aufstiegskampf mitspielen zu kÃ¶nnen. Die MÃ¤nner um RenÃ© Gonnermann werden alles dafÃ¼r gebenâ€¦ \n  \nFÃ¼r das leibliche Wohl wird bestens gesorgt sein! 
URL:https://herles1000.de/event/darts-crocodiles-vs-destille-obersuhl/
LOCATION:Ratskeller Herleshausen
CATEGORIES:Serienspiel,Sport
END:VEVENT
END:VCALENDAR