BEGIN:VCALENDAR
VERSION:2.0
PRODID:-//TSV Herleshausen - ECPv6.15.20//NONSGML v1.0//EN
CALSCALE:GREGORIAN
METHOD:PUBLISH
X-WR-CALNAME:TSV Herleshausen
X-ORIGINAL-URL:https://herles1000.de
X-WR-CALDESC:Veranstaltungen fÃ¼r TSV Herleshausen
REFRESH-INTERVAL;VALUE=DURATION:PT1H
X-Robots-Tag:noindex
X-PUBLISHED-TTL:PT1H
BEGIN:VTIMEZONE
TZID:Europe/Berlin
BEGIN:DAYLIGHT
TZOFFSETFROM:+0100
TZOFFSETTO:+0200
TZNAME:CEST
DTSTART:20210328T010000
END:DAYLIGHT
BEGIN:STANDARD
TZOFFSETFROM:+0200
TZOFFSETTO:+0100
TZNAME:CET
DTSTART:20211031T010000
END:STANDARD
BEGIN:DAYLIGHT
TZOFFSETFROM:+0100
TZOFFSETTO:+0200
TZNAME:CEST
DTSTART:20220327T010000
END:DAYLIGHT
BEGIN:STANDARD
TZOFFSETFROM:+0200
TZOFFSETTO:+0100
TZNAME:CET
DTSTART:20221030T010000
END:STANDARD
BEGIN:DAYLIGHT
TZOFFSETFROM:+0100
TZOFFSETTO:+0200
TZNAME:CEST
DTSTART:20230326T010000
END:DAYLIGHT
BEGIN:STANDARD
TZOFFSETFROM:+0200
TZOFFSETTO:+0100
TZNAME:CET
DTSTART:20231029T010000
END:STANDARD
END:VTIMEZONE
BEGIN:VEVENT
DTSTART;TZID=Europe/Berlin:20220319T150000
DTEND;TZID=Europe/Berlin:20220319T173000
DTSTAMP:20260425T225756
CREATED:20220318T223918Z
LAST-MODIFIED:20220318T224227Z
UID:8680-1647702000-1647711000@herles1000.de
SUMMARY:Volleyball-Spieltag
DESCRIPTION:HÃ¼nfelder SV II  &#8211;  TSV II \nHÃ¼nfelder SV II  &#8211;  TSV I
URL:https://herles1000.de/event/volleyball-spieltag/
LOCATION:HÃ¼nfeld
CATEGORIES:Sport
ATTACH;FMTTYPE=image/jpeg:https://herles1000.de/wp-content/uploads/2021/01/Volleyball-Titel.jpg
END:VEVENT
BEGIN:VEVENT
DTSTART;TZID=Europe/Berlin:20220320T123000
DTEND;TZID=Europe/Berlin:20220320T170000
DTSTAMP:20260425T225756
CREATED:20220318T224743Z
LAST-MODIFIED:20220318T224743Z
UID:8683-1647779400-1647795600@herles1000.de
SUMMARY:FuÃŸball-Spieltag
DESCRIPTION:12.30 Uhr\nSG H/N/U II &#8211; VfL Wanfried II \n15.00 Uhr\nSG H/N/U I &#8211; VfL Wanfried I
URL:https://herles1000.de/event/fussball-spieltag/
LOCATION:NesselrÃ¶den Sportplatz\, Sportplatz\, Herleshausen-NesselrÃ¶den\, 37293
CATEGORIES:Sport
ATTACH;FMTTYPE=image/jpeg:https://herles1000.de/wp-content/uploads/2021/12/Fussball-Rueckblick-Titel.jpg
END:VEVENT
BEGIN:VEVENT
DTSTART;TZID=Europe/Berlin:20220331T193000
DTEND;TZID=Europe/Berlin:20220331T223000
DTSTAMP:20260425T225756
CREATED:20220328T064226Z
LAST-MODIFIED:20220328T064323Z
UID:8719-1648755000-1648765800@herles1000.de
SUMMARY:Dart: TSV I gegen Canyon Darter
DESCRIPTION:Am kommenden Donnerstag\, den 31.03.\, findet das Topspiel im Kampf um die Meisterschaft statt. Um 19:30 heiÃŸt es im HerleshÃ¤user Ratskeller &#8220;Game On&#8221; in der Partie zwischen dem TSV I und den Canyon Dartern aus Diemerode. Die DiemerÃ¶der liegen derzeit mit nur einem Punkt vor dem TSV. Es ist Spannung pur zu erwarten. \nWir freuen uns Ã¼ber jeden Zuschauer &#8211; fÃ¼r das leibliche Wohl wird gesorgt.
URL:https://herles1000.de/event/dart-tsv-i-gegen-canyon-darter/
LOCATION:Ratskeller Herleshausen
CATEGORIES:Sport
ATTACH;FMTTYPE=image/jpeg:https://herles1000.de/wp-content/uploads/2022/02/IMG_2001-e1644241093707.jpeg
END:VEVENT
END:VCALENDAR