BEGIN:VCALENDAR
VERSION:2.0
PRODID:-//TSV Herleshausen - ECPv6.15.20//NONSGML v1.0//EN
CALSCALE:GREGORIAN
METHOD:PUBLISH
X-WR-CALNAME:TSV Herleshausen
X-ORIGINAL-URL:https://herles1000.de
X-WR-CALDESC:Veranstaltungen fÃ¼r TSV Herleshausen
REFRESH-INTERVAL;VALUE=DURATION:PT1H
X-Robots-Tag:noindex
X-PUBLISHED-TTL:PT1H
BEGIN:VTIMEZONE
TZID:Europe/Berlin
BEGIN:DAYLIGHT
TZOFFSETFROM:+0100
TZOFFSETTO:+0200
TZNAME:CEST
DTSTART:20210328T010000
END:DAYLIGHT
BEGIN:STANDARD
TZOFFSETFROM:+0200
TZOFFSETTO:+0100
TZNAME:CET
DTSTART:20211031T010000
END:STANDARD
BEGIN:DAYLIGHT
TZOFFSETFROM:+0100
TZOFFSETTO:+0200
TZNAME:CEST
DTSTART:20220327T010000
END:DAYLIGHT
BEGIN:STANDARD
TZOFFSETFROM:+0200
TZOFFSETTO:+0100
TZNAME:CET
DTSTART:20221030T010000
END:STANDARD
BEGIN:DAYLIGHT
TZOFFSETFROM:+0100
TZOFFSETTO:+0200
TZNAME:CEST
DTSTART:20230326T010000
END:DAYLIGHT
BEGIN:STANDARD
TZOFFSETFROM:+0200
TZOFFSETTO:+0100
TZNAME:CET
DTSTART:20231029T010000
END:STANDARD
END:VTIMEZONE
BEGIN:VEVENT
DTSTART;TZID=Europe/Berlin:20220212T190000
DTEND;TZID=Europe/Berlin:20220212T223000
DTSTAMP:20260426T002436
CREATED:20220125T131027Z
LAST-MODIFIED:20220125T131027Z
UID:8456-1644692400-1644705000@herles1000.de
SUMMARY:Dart: Husarendarter 4 gegen TSV I
DESCRIPTION:Das letzte Spiel vor den Play-Offs steht an. Mit einem Sieg und UnterstÃ¼tzung der 2. Mannschaft (spielen gegen den Tabellenersten aus Diemerode) kann der TSV I auf Platz 1 springen und einen wichtigen Schritt in Richtung Meisterschaft gehen.  \nDie Veranstaltung findet fÃ¼r Zuschauer und Spieler unter 2G-Plus-Bedingungen statt.
URL:https://herles1000.de/event/dart-husarendarter-4-gegen-tsv-i/
LOCATION:BÃ¼gerhaus Sontra\, ThingstÃ¤tte 2\, Sontra
ATTACH;FMTTYPE=image/jpeg:https://herles1000.de/wp-content/uploads/2022/01/E728E4A2-84CF-47DA-8B8F-18C5D90F95E9.jpg
END:VEVENT
BEGIN:VEVENT
DTSTART;TZID=Europe/Berlin:20220219T140000
DTEND;TZID=Europe/Berlin:20220219T160000
DTSTAMP:20260426T002436
CREATED:20220216T211013Z
LAST-MODIFIED:20220216T211347Z
UID:8557-1645279200-1645286400@herles1000.de
SUMMARY:FuÃŸball: Vorbereitungsspiel
DESCRIPTION:SV Wartburgstadt Eisenach &#8211; SG H/N/U \nauf dem Kunstrasenplatz in Eisenach
URL:https://herles1000.de/event/fussball-vorbereitungsspiel/
LOCATION:Eisenach\, Katzenaue
CATEGORIES:Sport
ATTACH;FMTTYPE=image/jpeg:https://herles1000.de/wp-content/uploads/2021/12/Fussball-Rueckblick-Titel.jpg
END:VEVENT
BEGIN:VEVENT
DTSTART;TZID=Europe/Berlin:20220223T180000
DTEND;TZID=Europe/Berlin:20220223T200000
DTSTAMP:20260426T002436
CREATED:20220217T212232Z
LAST-MODIFIED:20220217T212522Z
UID:8564-1645639200-1645646400@herles1000.de
SUMMARY:Turnen: Abteilungsversammlung
DESCRIPTION:An die Mitglieder der Abteilung Turnen/ Gymnastik \nEinladung\nAm Mittwoch\, dem 23.02.2022\, findet um 18.00 Uhr in der Turnhalle des TSV die ordentliche Abteilungsversammlung  statt. \nIch lade hierzu alle Abteilungsmitglieder und gem. Â§ 7 der Abteilungsordnung alle Mitglieder des Vorstandes und des Ã„ltestenrates recht herzlich ein und bitte um pÃ¼nktliches Erscheinen. \nTagesordnung\n\nRechenschaftsbericht der Abteilungsleiterin und der Abteilungsmitarbeiter/innen\nEntlastung der Abteilungsleiterin und der Abteilungsmitarbeiter/innen\nNeuwahlen des Abteilungsleiters/in und des stellvertr. Abteilungsleiters/in\nBeratung und Beschlussfassung Ã¼ber die Abteilungsvorhaben fÃ¼r 2022\nVerschiedenes\n\nMit sportlichem GruÃŸ \nDaniela Knierim\nAbteilungsleiterin
URL:https://herles1000.de/event/turnen-abteilungsversammlung/
LOCATION:TSV-Multifunktionshalle\, Am Eckweg 2\, Herleshausen\, Hessen\, 37293\, Deutschland
CATEGORIES:Sitzung
ATTACH;FMTTYPE=image/jpeg:https://herles1000.de/wp-content/uploads/2021/01/Turnhalle-mit-Logo-2.jpg
END:VEVENT
END:VCALENDAR