BEGIN:VCALENDAR
VERSION:2.0
PRODID:-//TSV Herleshausen - ECPv6.15.20//NONSGML v1.0//EN
CALSCALE:GREGORIAN
METHOD:PUBLISH
X-WR-CALNAME:TSV Herleshausen
X-ORIGINAL-URL:https://herles1000.de
X-WR-CALDESC:Veranstaltungen fÃ¼r TSV Herleshausen
REFRESH-INTERVAL;VALUE=DURATION:PT1H
X-Robots-Tag:noindex
X-PUBLISHED-TTL:PT1H
BEGIN:VTIMEZONE
TZID:Europe/Berlin
BEGIN:DAYLIGHT
TZOFFSETFROM:+0100
TZOFFSETTO:+0200
TZNAME:CEST
DTSTART:20240331T010000
END:DAYLIGHT
BEGIN:STANDARD
TZOFFSETFROM:+0200
TZOFFSETTO:+0100
TZNAME:CET
DTSTART:20241027T010000
END:STANDARD
BEGIN:DAYLIGHT
TZOFFSETFROM:+0100
TZOFFSETTO:+0200
TZNAME:CEST
DTSTART:20250330T010000
END:DAYLIGHT
BEGIN:STANDARD
TZOFFSETFROM:+0200
TZOFFSETTO:+0100
TZNAME:CET
DTSTART:20251026T010000
END:STANDARD
BEGIN:DAYLIGHT
TZOFFSETFROM:+0100
TZOFFSETTO:+0200
TZNAME:CEST
DTSTART:20260329T010000
END:DAYLIGHT
BEGIN:STANDARD
TZOFFSETFROM:+0200
TZOFFSETTO:+0100
TZNAME:CET
DTSTART:20261025T010000
END:STANDARD
END:VTIMEZONE
BEGIN:VEVENT
DTSTART;TZID=Europe/Berlin:20250919T153000
DTEND;TZID=Europe/Berlin:20250921T120000
DTSTAMP:20260419T184512
CREATED:20250916T212358Z
LAST-MODIFIED:20250916T212358Z
UID:16960-1758295800-1758456000@herles1000.de
SUMMARY:Schwimmbad-JubilÃ¤um - 50 Jahre
DESCRIPTION:Das HerleshÃ¤user Schwimmbad wird 50! FÃ¼r uns natÃ¼rlich ein guter Grund zu feiern: \n \nHier gehtÂ´s zu nÃ¤heren Infos &#8230; \n 
URL:https://herles1000.de/event/schwimmbad-jubilaeum-50-jahre/
LOCATION:Schwimmbad Herleshausen
CATEGORIES:Fest-Wochenende,Konzert
END:VEVENT
END:VCALENDAR