BEGIN:VCALENDAR
VERSION:2.0
PRODID:-//TSV Herleshausen - ECPv6.15.20//NONSGML v1.0//EN
CALSCALE:GREGORIAN
METHOD:PUBLISH
X-ORIGINAL-URL:https://herles1000.de
X-WR-CALDESC:Veranstaltungen fÃ¼r TSV Herleshausen
REFRESH-INTERVAL;VALUE=DURATION:PT1H
X-Robots-Tag:noindex
X-PUBLISHED-TTL:PT1H
BEGIN:VTIMEZONE
TZID:Europe/Berlin
BEGIN:DAYLIGHT
TZOFFSETFROM:+0100
TZOFFSETTO:+0200
TZNAME:CEST
DTSTART:20240331T010000
END:DAYLIGHT
BEGIN:STANDARD
TZOFFSETFROM:+0200
TZOFFSETTO:+0100
TZNAME:CET
DTSTART:20241027T010000
END:STANDARD
BEGIN:DAYLIGHT
TZOFFSETFROM:+0100
TZOFFSETTO:+0200
TZNAME:CEST
DTSTART:20250330T010000
END:DAYLIGHT
BEGIN:STANDARD
TZOFFSETFROM:+0200
TZOFFSETTO:+0100
TZNAME:CET
DTSTART:20251026T010000
END:STANDARD
BEGIN:DAYLIGHT
TZOFFSETFROM:+0100
TZOFFSETTO:+0200
TZNAME:CEST
DTSTART:20260329T010000
END:DAYLIGHT
BEGIN:STANDARD
TZOFFSETFROM:+0200
TZOFFSETTO:+0100
TZNAME:CET
DTSTART:20261025T010000
END:STANDARD
END:VTIMEZONE
BEGIN:VEVENT
DTSTART;TZID=Europe/Berlin:20250815T180000
DTEND;TZID=Europe/Berlin:20250818T000000
DTSTAMP:20260419T202212
CREATED:20250725T071538Z
LAST-MODIFIED:20250725T071853Z
UID:16630-1755280800-1755475200@herles1000.de
SUMMARY:Kirmes in Herleshausen
DESCRIPTION:Alle Jahre wieder &#8230; das traditionelle Erntefest in Herleshausen mit den Ã¼blichen Veranstaltungen von Freitag (Ausgraben am Anger u. Disco im Festzelt) Ã¼ber Samstag (Umspielen u. Tanz im Festzelt) und Sonntag (Festgottesdienst\, Festzug und VergnÃ¼gen im Festzelt) bis Montag (FrÃ¼hschoppen). \nAusgerichtet wie immer von der Kirmesgesellschaft Herleshausen\, die sich aus vielen Jugendlichen und jungen Erwachsenen des Dorfes zusammensetzt.  \nToll\, dass ihr das jedes Jahr aufs Neue hinkriegt!
URL:https://herles1000.de/event/kirmes-in-herleshausen-2/
LOCATION:Festplatz
CATEGORIES:Kirmes
ATTACH;FMTTYPE=image/jpeg:https://herles1000.de/wp-content/uploads/2024/08/Kirmesgesellschaft-2024-am-Baum-2-web.jpg
END:VEVENT
END:VCALENDAR