BEGIN:VCALENDAR
VERSION:2.0
PRODID:-//TSV Herleshausen - ECPv6.15.20//NONSGML v1.0//EN
CALSCALE:GREGORIAN
METHOD:PUBLISH
X-ORIGINAL-URL:https://herles1000.de
X-WR-CALDESC:Veranstaltungen für TSV Herleshausen
REFRESH-INTERVAL;VALUE=DURATION:PT1H
X-Robots-Tag:noindex
X-PUBLISHED-TTL:PT1H
BEGIN:VTIMEZONE
TZID:Europe/Berlin
BEGIN:DAYLIGHT
TZOFFSETFROM:+0100
TZOFFSETTO:+0200
TZNAME:CEST
DTSTART:20230326T010000
END:DAYLIGHT
BEGIN:STANDARD
TZOFFSETFROM:+0200
TZOFFSETTO:+0100
TZNAME:CET
DTSTART:20231029T010000
END:STANDARD
BEGIN:DAYLIGHT
TZOFFSETFROM:+0100
TZOFFSETTO:+0200
TZNAME:CEST
DTSTART:20240331T010000
END:DAYLIGHT
BEGIN:STANDARD
TZOFFSETFROM:+0200
TZOFFSETTO:+0100
TZNAME:CET
DTSTART:20241027T010000
END:STANDARD
BEGIN:DAYLIGHT
TZOFFSETFROM:+0100
TZOFFSETTO:+0200
TZNAME:CEST
DTSTART:20250330T010000
END:DAYLIGHT
BEGIN:STANDARD
TZOFFSETFROM:+0200
TZOFFSETTO:+0100
TZNAME:CET
DTSTART:20251026T010000
END:STANDARD
END:VTIMEZONE
BEGIN:VEVENT
DTSTART;TZID=Europe/Berlin:20240301T191500
DTEND;TZID=Europe/Berlin:20240301T191500
DTSTAMP:20260424T144932
CREATED:20240212T205056Z
LAST-MODIFIED:20240212T205346Z
UID:13403-1709320500-1709320500@herles1000.de
SUMMARY:Abteilungsversammlung Darts
DESCRIPTION:Einladung\nAm Freitag\, dem 1.3.24\, findet um 19:15 Uhr in der Gaststätte der Gemeinde (Ratskeller) die ordentliche Abteilungsversammlung Dart statt.\nHierzu lade ich alle Mitglieder der Dartabteilung und gem. § 7 der Abteilungsordnung alle Mitglieder des Vorstandes und des Ältestenrates recht herzlich ein und bitte um pünktliches Erscheinen. Auf eine rege Teilnahme würde ich mich freuen. \nTagesordnung\n1. Rechenschaftsbericht des Abteilungsleiters und der Abteilungsmitarbeiter Saison 23/24 \n2. Entlastung des Abteilungsleiters und der Abteilungsmitarbeiter \n3. Beratung und Beschlussfassung über die Abteilungsvorhaben für 2024 \n4. Verschiedenes \nMit sportlichem Gruß \nRené Gonnermann\nAbteilungsleiter Dart
URL:https://herles1000.de/event/abtzeilungsversammlung-darts/
LOCATION:Ratskeller Herleshausen
CATEGORIES:Versammlung
END:VEVENT
END:VCALENDAR