BEGIN:VCALENDAR
VERSION:2.0
PRODID:-//TSV Herleshausen - ECPv6.15.20//NONSGML v1.0//EN
CALSCALE:GREGORIAN
METHOD:PUBLISH
X-WR-CALNAME:TSV Herleshausen
X-ORIGINAL-URL:https://herles1000.de
X-WR-CALDESC:Veranstaltungen für TSV Herleshausen
REFRESH-INTERVAL;VALUE=DURATION:PT1H
X-Robots-Tag:noindex
X-PUBLISHED-TTL:PT1H
BEGIN:VTIMEZONE
TZID:Europe/Berlin
BEGIN:DAYLIGHT
TZOFFSETFROM:+0100
TZOFFSETTO:+0200
TZNAME:CEST
DTSTART:20220327T010000
END:DAYLIGHT
BEGIN:STANDARD
TZOFFSETFROM:+0200
TZOFFSETTO:+0100
TZNAME:CET
DTSTART:20221030T010000
END:STANDARD
BEGIN:DAYLIGHT
TZOFFSETFROM:+0100
TZOFFSETTO:+0200
TZNAME:CEST
DTSTART:20230326T010000
END:DAYLIGHT
BEGIN:STANDARD
TZOFFSETFROM:+0200
TZOFFSETTO:+0100
TZNAME:CET
DTSTART:20231029T010000
END:STANDARD
BEGIN:DAYLIGHT
TZOFFSETFROM:+0100
TZOFFSETTO:+0200
TZNAME:CEST
DTSTART:20240331T010000
END:DAYLIGHT
BEGIN:STANDARD
TZOFFSETFROM:+0200
TZOFFSETTO:+0100
TZNAME:CET
DTSTART:20241027T010000
END:STANDARD
END:VTIMEZONE
BEGIN:VEVENT
DTSTART;TZID=Europe/Berlin:20230903T190000
DTEND;TZID=Europe/Berlin:20230903T220000
DTSTAMP:20260424T230541
CREATED:20230824T091824Z
LAST-MODIFIED:20230824T091900Z
UID:12239-1693767600-1693778400@herles1000.de
SUMMARY:Darts: Doppelheimspieltag - Bulls vs. Tigers
DESCRIPTION:Am 3. September startet die lang ersehnte neue Saison! \nLos geht es direkt mit dem Duell der beiden Herleshäuser B-Ligisten. Ab 19 Uhr heißt es &#8220;Game On!&#8221; &#8211; es erwartet Euch Spannung pur! \nFür das leibliche Wohl wird &#8211; wie immer &#8211; bestens gesorgt sein!
URL:https://herles1000.de/event/darts-doppelheimspieltag-bulls-vs-tigers/
LOCATION:Ratskeller Herleshausen
CATEGORIES:Serienspiel,Sport
END:VEVENT
END:VCALENDAR