BEGIN:VCALENDAR
VERSION:2.0
PRODID:-//TSV Herleshausen - ECPv6.15.20//NONSGML v1.0//EN
CALSCALE:GREGORIAN
METHOD:PUBLISH
X-WR-CALNAME:TSV Herleshausen
X-ORIGINAL-URL:https://herles1000.de
X-WR-CALDESC:Veranstaltungen für TSV Herleshausen
REFRESH-INTERVAL;VALUE=DURATION:PT1H
X-Robots-Tag:noindex
X-PUBLISHED-TTL:PT1H
BEGIN:VTIMEZONE
TZID:Europe/Berlin
BEGIN:DAYLIGHT
TZOFFSETFROM:+0100
TZOFFSETTO:+0200
TZNAME:CEST
DTSTART:20220327T010000
END:DAYLIGHT
BEGIN:STANDARD
TZOFFSETFROM:+0200
TZOFFSETTO:+0100
TZNAME:CET
DTSTART:20221030T010000
END:STANDARD
BEGIN:DAYLIGHT
TZOFFSETFROM:+0100
TZOFFSETTO:+0200
TZNAME:CEST
DTSTART:20230326T010000
END:DAYLIGHT
BEGIN:STANDARD
TZOFFSETFROM:+0200
TZOFFSETTO:+0100
TZNAME:CET
DTSTART:20231029T010000
END:STANDARD
BEGIN:DAYLIGHT
TZOFFSETFROM:+0100
TZOFFSETTO:+0200
TZNAME:CEST
DTSTART:20240331T010000
END:DAYLIGHT
BEGIN:STANDARD
TZOFFSETFROM:+0200
TZOFFSETTO:+0100
TZNAME:CET
DTSTART:20241027T010000
END:STANDARD
END:VTIMEZONE
BEGIN:VEVENT
DTSTART;TZID=Europe/Berlin:20230818T170000
DTEND;TZID=Europe/Berlin:20230821T000000
DTSTAMP:20260425T002433
CREATED:20230724T072249Z
LAST-MODIFIED:20230724T073058Z
UID:12092-1692378000-1692576000@herles1000.de
SUMMARY:Kirmes in Herleshausen
DESCRIPTION:Tages Arbeit\, abends Gäste &#8211; saure Wochen\, frohe Feste. Einmal mehr lädt die Kirmesgesellschaft des Dorfes zum großen Erntefest ein und freut sich auf fröhliche Besucher. \nKirmesgesellschaft Herleshausen \nAusführliche Infos gibt´s auf facebook
URL:https://herles1000.de/event/kirmes-in-herleshausen/
LOCATION:Festplatz
ATTACH;FMTTYPE=image/jpeg:https://herles1000.de/wp-content/uploads/2022/08/Kirmesbaum-Team.jpg
END:VEVENT
END:VCALENDAR