BEGIN:VCALENDAR
VERSION:2.0
PRODID:-//TSV Herleshausen - ECPv6.15.20//NONSGML v1.0//EN
CALSCALE:GREGORIAN
METHOD:PUBLISH
X-ORIGINAL-URL:https://herles1000.de
X-WR-CALDESC:Veranstaltungen für TSV Herleshausen
REFRESH-INTERVAL;VALUE=DURATION:PT1H
X-Robots-Tag:noindex
X-PUBLISHED-TTL:PT1H
BEGIN:VTIMEZONE
TZID:Europe/Berlin
BEGIN:DAYLIGHT
TZOFFSETFROM:+0100
TZOFFSETTO:+0200
TZNAME:CEST
DTSTART:20220327T010000
END:DAYLIGHT
BEGIN:STANDARD
TZOFFSETFROM:+0200
TZOFFSETTO:+0100
TZNAME:CET
DTSTART:20221030T010000
END:STANDARD
BEGIN:DAYLIGHT
TZOFFSETFROM:+0100
TZOFFSETTO:+0200
TZNAME:CEST
DTSTART:20230326T010000
END:DAYLIGHT
BEGIN:STANDARD
TZOFFSETFROM:+0200
TZOFFSETTO:+0100
TZNAME:CET
DTSTART:20231029T010000
END:STANDARD
BEGIN:DAYLIGHT
TZOFFSETFROM:+0100
TZOFFSETTO:+0200
TZNAME:CEST
DTSTART:20240331T010000
END:DAYLIGHT
BEGIN:STANDARD
TZOFFSETFROM:+0200
TZOFFSETTO:+0100
TZNAME:CET
DTSTART:20241027T010000
END:STANDARD
END:VTIMEZONE
BEGIN:VEVENT
DTSTART;TZID=Europe/Berlin:20230624T140000
DTEND;TZID=Europe/Berlin:20230624T140000
DTSTAMP:20260425T033826
CREATED:20230417T082838Z
LAST-MODIFIED:20230417T083007Z
UID:11595-1687615200-1687615200@herles1000.de
SUMMARY:Bunter Rasen
DESCRIPTION:Alle Abteilungen des Vereins stellen sich mit sportlichen Angeboten auf dem Sportplatz in Herleshausen vor. Für Essen und Trinken wird natürlich gesorgt. \nHier geht´s zum Bericht über den Bunten Rasen 2022
URL:https://herles1000.de/event/bunter-rasen-2/
LOCATION:Sportplatz Herleshausen\, Im Ölgrund\, 37293 Herleshausen\, 37293
END:VEVENT
END:VCALENDAR