BEGIN:VCALENDAR
VERSION:2.0
PRODID:-//TSV Herleshausen - ECPv6.15.20//NONSGML v1.0//EN
CALSCALE:GREGORIAN
METHOD:PUBLISH
X-WR-CALNAME:TSV Herleshausen
X-ORIGINAL-URL:https://herles1000.de
X-WR-CALDESC:Veranstaltungen fÃ¼r TSV Herleshausen
REFRESH-INTERVAL;VALUE=DURATION:PT1H
X-Robots-Tag:noindex
X-PUBLISHED-TTL:PT1H
BEGIN:VTIMEZONE
TZID:Europe/Berlin
BEGIN:DAYLIGHT
TZOFFSETFROM:+0100
TZOFFSETTO:+0200
TZNAME:CEST
DTSTART:20220327T010000
END:DAYLIGHT
BEGIN:STANDARD
TZOFFSETFROM:+0200
TZOFFSETTO:+0100
TZNAME:CET
DTSTART:20221030T010000
END:STANDARD
BEGIN:DAYLIGHT
TZOFFSETFROM:+0100
TZOFFSETTO:+0200
TZNAME:CEST
DTSTART:20230326T010000
END:DAYLIGHT
BEGIN:STANDARD
TZOFFSETFROM:+0200
TZOFFSETTO:+0100
TZNAME:CET
DTSTART:20231029T010000
END:STANDARD
BEGIN:DAYLIGHT
TZOFFSETFROM:+0100
TZOFFSETTO:+0200
TZNAME:CEST
DTSTART:20240331T010000
END:DAYLIGHT
BEGIN:STANDARD
TZOFFSETFROM:+0200
TZOFFSETTO:+0100
TZNAME:CET
DTSTART:20241027T010000
END:STANDARD
END:VTIMEZONE
BEGIN:VEVENT
DTSTART;TZID=Europe/Berlin:20230519T190000
DTEND;TZID=Europe/Berlin:20230521T140000
DTSTAMP:20260425T050236
CREATED:20230212T214738Z
LAST-MODIFIED:20230212T214738Z
UID:11141-1684522800-1684677600@herles1000.de
SUMMARY:AltfuÃŸballertreffen
DESCRIPTION:Die Freunde des runden Leders in der GroÃŸgemeinde und darÃ¼ber hinaus sollten sich schon mal einen Termin im Kalender markieren. Das Himmelfahrtswochenende Mitte Mai wurde fÃ¼r ein Treffen der SG-FuÃŸballer ausgewÃ¤hlt. \nMehrere runde Zahlen geben Anlass fÃ¼r ein Wiedersehen und bieten groÃŸes Erinnerungspotential: 60 Jahre SG SÃ¼dringgau\, 40 Jahre Meisterschaft in der damaligen A-Klasse (heute Kreisoberliga) und 10 Jahre SG H/N/U. \nAlle\, die jemals fÃ¼r die Spielgemeinschaft = SG SÃ¼dringgau (ab 1963) â€“ SG Herleshausen/NesselrÃ¶den (ab 1980) â€“ SG Herleshausen/NesselrÃ¶den/Ulfegrund (seit 2013) â€“ die FuÃŸballschuhe geschnÃ¼rt haben\, sind herzlich eingeladen. \nNÃ¤heres steht in unserer Meldung vom 11. Januar 2023.
URL:https://herles1000.de/event/altfussballertreffen/
LOCATION:TSV-Multifunktionshalle\, Am Eckweg 2\, Herleshausen\, Hessen\, 37293\, Deutschland
CATEGORIES:Treffen
ATTACH;FMTTYPE=image/jpeg:https://herles1000.de/wp-content/uploads/2023/01/Altfussballertreffen-Titel.jpg
END:VEVENT
END:VCALENDAR