BEGIN:VCALENDAR
VERSION:2.0
PRODID:-//TSV Herleshausen - ECPv6.15.20//NONSGML v1.0//EN
CALSCALE:GREGORIAN
METHOD:PUBLISH
X-WR-CALNAME:TSV Herleshausen
X-ORIGINAL-URL:https://herles1000.de
X-WR-CALDESC:Veranstaltungen für TSV Herleshausen
REFRESH-INTERVAL;VALUE=DURATION:PT1H
X-Robots-Tag:noindex
X-PUBLISHED-TTL:PT1H
BEGIN:VTIMEZONE
TZID:Europe/Berlin
BEGIN:DAYLIGHT
TZOFFSETFROM:+0100
TZOFFSETTO:+0200
TZNAME:CEST
DTSTART:20210328T010000
END:DAYLIGHT
BEGIN:STANDARD
TZOFFSETFROM:+0200
TZOFFSETTO:+0100
TZNAME:CET
DTSTART:20211031T010000
END:STANDARD
BEGIN:DAYLIGHT
TZOFFSETFROM:+0100
TZOFFSETTO:+0200
TZNAME:CEST
DTSTART:20220327T010000
END:DAYLIGHT
BEGIN:STANDARD
TZOFFSETFROM:+0200
TZOFFSETTO:+0100
TZNAME:CET
DTSTART:20221030T010000
END:STANDARD
BEGIN:DAYLIGHT
TZOFFSETFROM:+0100
TZOFFSETTO:+0200
TZNAME:CEST
DTSTART:20230326T010000
END:DAYLIGHT
BEGIN:STANDARD
TZOFFSETFROM:+0200
TZOFFSETTO:+0100
TZNAME:CET
DTSTART:20231029T010000
END:STANDARD
END:VTIMEZONE
BEGIN:VEVENT
DTSTART;TZID=Europe/Berlin:20221007T190000
DTEND;TZID=Europe/Berlin:20221007T230000
DTSTAMP:20260425T145550
CREATED:20220929T101423Z
LAST-MODIFIED:20220929T101423Z
UID:10225-1665169200-1665183600@herles1000.de
SUMMARY:Dart: TSV Herleshausen Crocodiles gegen die Canyon Darter
DESCRIPTION:Am kommenden Freitag empfangen die Crocodiles ihren Mitaufsteiger und Vorjahresmeister der C-Liga aus Diemerode. \nDie bisherige Bilanz der beiden zeigt\, dass Spannung garantiert wird (1 Sieg\, 1 Unentschieden\, 2 Niederlagen). \nAb 19 Uhr geht es los\, für das leibliche Wohl wird bestens gesorgt!
URL:https://herles1000.de/event/dart-tsv-herleshausen-crocodiles-gegen-die-canyon-darter/
LOCATION:Ratskeller Herleshausen
END:VEVENT
END:VCALENDAR