BEGIN:VCALENDAR
VERSION:2.0
PRODID:-//TSV Herleshausen - ECPv6.15.20//NONSGML v1.0//EN
CALSCALE:GREGORIAN
METHOD:PUBLISH
X-WR-CALNAME:TSV Herleshausen
X-ORIGINAL-URL:https://herles1000.de
X-WR-CALDESC:Veranstaltungen für TSV Herleshausen
REFRESH-INTERVAL;VALUE=DURATION:PT1H
X-Robots-Tag:noindex
X-PUBLISHED-TTL:PT1H
BEGIN:VTIMEZONE
TZID:Europe/Berlin
BEGIN:DAYLIGHT
TZOFFSETFROM:+0100
TZOFFSETTO:+0200
TZNAME:CEST
DTSTART:20210328T010000
END:DAYLIGHT
BEGIN:STANDARD
TZOFFSETFROM:+0200
TZOFFSETTO:+0100
TZNAME:CET
DTSTART:20211031T010000
END:STANDARD
BEGIN:DAYLIGHT
TZOFFSETFROM:+0100
TZOFFSETTO:+0200
TZNAME:CEST
DTSTART:20220327T010000
END:DAYLIGHT
BEGIN:STANDARD
TZOFFSETFROM:+0200
TZOFFSETTO:+0100
TZNAME:CET
DTSTART:20221030T010000
END:STANDARD
BEGIN:DAYLIGHT
TZOFFSETFROM:+0100
TZOFFSETTO:+0200
TZNAME:CEST
DTSTART:20230326T010000
END:DAYLIGHT
BEGIN:STANDARD
TZOFFSETFROM:+0200
TZOFFSETTO:+0100
TZNAME:CET
DTSTART:20231029T010000
END:STANDARD
END:VTIMEZONE
BEGIN:VEVENT
DTSTART;TZID=Europe/Berlin:20220507T193000
DTEND;TZID=Europe/Berlin:20220507T220000
DTSTAMP:20260425T213141
CREATED:20220426T212444Z
LAST-MODIFIED:20220426T212444Z
UID:9083-1651951800-1651960800@herles1000.de
SUMMARY:Jahreshauptversammlung
DESCRIPTION:Ordentliche Mitgliederversammlung \nHier geht es zur Tagesordnung.
URL:https://herles1000.de/event/jahreshauptversammlung/
LOCATION:TSV-Multifunktionshalle\, Am Eckweg 2\, Herleshausen\, Hessen\, 37293\, Deutschland
CATEGORIES:Versammlung
ATTACH;FMTTYPE=image/jpeg:https://herles1000.de/wp-content/uploads/2021/04/IMG_3990-Turnhalle-2021.jpg
END:VEVENT
END:VCALENDAR