BEGIN:VCALENDAR
VERSION:2.0
PRODID:-//TSV Herleshausen - ECPv6.15.20//NONSGML v1.0//EN
CALSCALE:GREGORIAN
METHOD:PUBLISH
X-WR-CALNAME:TSV Herleshausen
X-ORIGINAL-URL:https://herles1000.de
X-WR-CALDESC:Veranstaltungen fÃ¼r TSV Herleshausen
REFRESH-INTERVAL;VALUE=DURATION:PT1H
X-Robots-Tag:noindex
X-PUBLISHED-TTL:PT1H
BEGIN:VTIMEZONE
TZID:Europe/Berlin
BEGIN:DAYLIGHT
TZOFFSETFROM:+0100
TZOFFSETTO:+0200
TZNAME:CEST
DTSTART:20210328T010000
END:DAYLIGHT
BEGIN:STANDARD
TZOFFSETFROM:+0200
TZOFFSETTO:+0100
TZNAME:CET
DTSTART:20211031T010000
END:STANDARD
BEGIN:DAYLIGHT
TZOFFSETFROM:+0100
TZOFFSETTO:+0200
TZNAME:CEST
DTSTART:20220327T010000
END:DAYLIGHT
BEGIN:STANDARD
TZOFFSETFROM:+0200
TZOFFSETTO:+0100
TZNAME:CET
DTSTART:20221030T010000
END:STANDARD
BEGIN:DAYLIGHT
TZOFFSETFROM:+0100
TZOFFSETTO:+0200
TZNAME:CEST
DTSTART:20230326T010000
END:DAYLIGHT
BEGIN:STANDARD
TZOFFSETFROM:+0200
TZOFFSETTO:+0100
TZNAME:CET
DTSTART:20231029T010000
END:STANDARD
END:VTIMEZONE
BEGIN:VEVENT
DTSTART;TZID=Europe/Berlin:20220414T183000
DTEND;TZID=Europe/Berlin:20220414T203000
DTSTAMP:20260425T225612
CREATED:20220410T091251Z
LAST-MODIFIED:20220410T091733Z
UID:8893-1649961000-1649968200@herles1000.de
SUMMARY:FuÃŸball-Nachholspieltag I
DESCRIPTION:18.30 Uhr\, Herleshausen:\nSG H/N/U  &#8211;  SG Wehretal \nAm frÃ¼hen Abend des GrÃ¼ndonnerstags wird das Top-Spiel nachgeholt\, das kÃ¼rzlich dem Wintereinbruch zum Opfer gefallen ist. Bei hoffentlich idealen Bedingungen darf man sich auf einen engagierten Kampf um die Tabellenspitze freuen. \nZum Europa-League-Top-Spiel um 21.00 Uhr kÃ¶nnten alle Zuschauer dann wieder rechtzeitig zu Hause sein &#8230;
URL:https://herles1000.de/event/fussball-nachholspieltag-i/
LOCATION:Sportplatz Herleshausen\, Im Ã–lgrund\, 37293 Herleshausen\, 37293
CATEGORIES:Sport
ATTACH;FMTTYPE=image/jpeg:https://herles1000.de/wp-content/uploads/2022/04/Spielvorschau-Titel.jpg
END:VEVENT
END:VCALENDAR