BEGIN:VCALENDAR
VERSION:2.0
PRODID:-//TSV Herleshausen - ECPv6.15.20//NONSGML v1.0//EN
CALSCALE:GREGORIAN
METHOD:PUBLISH
X-ORIGINAL-URL:https://herles1000.de
X-WR-CALDESC:Veranstaltungen für TSV Herleshausen
REFRESH-INTERVAL;VALUE=DURATION:PT1H
X-Robots-Tag:noindex
X-PUBLISHED-TTL:PT1H
BEGIN:VTIMEZONE
TZID:Europe/Berlin
BEGIN:DAYLIGHT
TZOFFSETFROM:+0100
TZOFFSETTO:+0200
TZNAME:CEST
DTSTART:20210328T010000
END:DAYLIGHT
BEGIN:STANDARD
TZOFFSETFROM:+0200
TZOFFSETTO:+0100
TZNAME:CET
DTSTART:20211031T010000
END:STANDARD
BEGIN:DAYLIGHT
TZOFFSETFROM:+0100
TZOFFSETTO:+0200
TZNAME:CEST
DTSTART:20220327T010000
END:DAYLIGHT
BEGIN:STANDARD
TZOFFSETFROM:+0200
TZOFFSETTO:+0100
TZNAME:CET
DTSTART:20221030T010000
END:STANDARD
BEGIN:DAYLIGHT
TZOFFSETFROM:+0100
TZOFFSETTO:+0200
TZNAME:CEST
DTSTART:20230326T010000
END:DAYLIGHT
BEGIN:STANDARD
TZOFFSETFROM:+0200
TZOFFSETTO:+0100
TZNAME:CET
DTSTART:20231029T010000
END:STANDARD
END:VTIMEZONE
BEGIN:VEVENT
DTSTART;TZID=Europe/Berlin:20220410T130000
DTEND;TZID=Europe/Berlin:20220410T170000
DTSTAMP:20260425T225828
CREATED:20220410T090336Z
LAST-MODIFIED:20220410T090504Z
UID:8890-1649595600-1649610000@herles1000.de
SUMMARY:Fußball-Heimspiele
DESCRIPTION:13.00 Uhr in Ulfen\nH/N/U III – SpVgg. Hopfelde/Hollstein II \n15.00 Uhr in Ulfen\nH/N/U II – SG Meißner II
URL:https://herles1000.de/event/fussball-heimspiele/
LOCATION:Sportplatz Ulfen\, Rendaer Straße\, 36205 Sontra-Ulfen
CATEGORIES:Sport
ATTACH;FMTTYPE=image/jpeg:https://herles1000.de/wp-content/uploads/2021/12/Fussball-Rueckblick-Titel.jpg
END:VEVENT
END:VCALENDAR