BEGIN:VCALENDAR
VERSION:2.0
PRODID:-//TSV Herleshausen - ECPv6.15.20//NONSGML v1.0//EN
CALSCALE:GREGORIAN
METHOD:PUBLISH
X-WR-CALNAME:TSV Herleshausen
X-ORIGINAL-URL:https://herles1000.de
X-WR-CALDESC:Veranstaltungen für TSV Herleshausen
REFRESH-INTERVAL;VALUE=DURATION:PT1H
X-Robots-Tag:noindex
X-PUBLISHED-TTL:PT1H
BEGIN:VTIMEZONE
TZID:Europe/Berlin
BEGIN:DAYLIGHT
TZOFFSETFROM:+0100
TZOFFSETTO:+0200
TZNAME:CEST
DTSTART:20210328T010000
END:DAYLIGHT
BEGIN:STANDARD
TZOFFSETFROM:+0200
TZOFFSETTO:+0100
TZNAME:CET
DTSTART:20211031T010000
END:STANDARD
BEGIN:DAYLIGHT
TZOFFSETFROM:+0100
TZOFFSETTO:+0200
TZNAME:CEST
DTSTART:20220327T010000
END:DAYLIGHT
BEGIN:STANDARD
TZOFFSETFROM:+0200
TZOFFSETTO:+0100
TZNAME:CET
DTSTART:20221030T010000
END:STANDARD
BEGIN:DAYLIGHT
TZOFFSETFROM:+0100
TZOFFSETTO:+0200
TZNAME:CEST
DTSTART:20230326T010000
END:DAYLIGHT
BEGIN:STANDARD
TZOFFSETFROM:+0200
TZOFFSETTO:+0100
TZNAME:CET
DTSTART:20231029T010000
END:STANDARD
END:VTIMEZONE
BEGIN:VEVENT
DTSTART;TZID=Europe/Berlin:20220320T123000
DTEND;TZID=Europe/Berlin:20220320T170000
DTSTAMP:20260426T015548
CREATED:20220318T224743Z
LAST-MODIFIED:20220318T224743Z
UID:8683-1647779400-1647795600@herles1000.de
SUMMARY:Fußball-Spieltag
DESCRIPTION:12.30 Uhr\nSG H/N/U II &#8211; VfL Wanfried II \n15.00 Uhr\nSG H/N/U I &#8211; VfL Wanfried I
URL:https://herles1000.de/event/fussball-spieltag/
LOCATION:Nesselröden Sportplatz\, Sportplatz\, Herleshausen-Nesselröden\, 37293
CATEGORIES:Sport
ATTACH;FMTTYPE=image/jpeg:https://herles1000.de/wp-content/uploads/2021/12/Fussball-Rueckblick-Titel.jpg
END:VEVENT
END:VCALENDAR